BEGIN:VCALENDAR
VERSION:2.0
PRODID:-//Norwegian Maritime Exporters - ECPv6.15.20//NONSGML v1.0//EN
CALSCALE:GREGORIAN
METHOD:PUBLISH
X-ORIGINAL-URL:https://www.nme.no
X-WR-CALDESC:Events for Norwegian Maritime Exporters
REFRESH-INTERVAL;VALUE=DURATION:PT1H
X-Robots-Tag:noindex
X-PUBLISHED-TTL:PT1H
BEGIN:VTIMEZONE
TZID:Europe/Oslo
BEGIN:DAYLIGHT
TZOFFSETFROM:+0100
TZOFFSETTO:+0200
TZNAME:CEST
DTSTART:20240331T010000
END:DAYLIGHT
BEGIN:STANDARD
TZOFFSETFROM:+0200
TZOFFSETTO:+0100
TZNAME:CET
DTSTART:20241027T010000
END:STANDARD
BEGIN:DAYLIGHT
TZOFFSETFROM:+0100
TZOFFSETTO:+0200
TZNAME:CEST
DTSTART:20250330T010000
END:DAYLIGHT
BEGIN:STANDARD
TZOFFSETFROM:+0200
TZOFFSETTO:+0100
TZNAME:CET
DTSTART:20251026T010000
END:STANDARD
BEGIN:DAYLIGHT
TZOFFSETFROM:+0100
TZOFFSETTO:+0200
TZNAME:CEST
DTSTART:20260329T010000
END:DAYLIGHT
BEGIN:STANDARD
TZOFFSETFROM:+0200
TZOFFSETTO:+0100
TZNAME:CET
DTSTART:20261025T010000
END:STANDARD
END:VTIMEZONE
BEGIN:VEVENT
DTSTART;VALUE=DATE:20250408
DTEND;VALUE=DATE:20250411
DTSTAMP:20260424T165851
CREATED:20240805T092047Z
LAST-MODIFIED:20250227T142325Z
UID:12771-1744070400-1744329599@www.nme.no
SUMMARY:Seatrade Cruise Global 2025 - Fully booked
DESCRIPTION:Seatrade Cruise Global (SCG) is the largest and longest running event of its kind and the only trade show that brings every sector of the cruise industry together under one roof. Save time\, money and your carbon footprint by meeting the world’s cruise decision makers and buyers all at once – right in their own backyard! Read more about why to exhibit and visitor demographics here. \nThe Team Norway Pavilion is located at booths #3023 and #3223– see the hall map here. \nN.B! The deadline for registrations was set to 1.oktober. At the current time we have one Meet and Greet booth available. Booking of other booths and sizes are a subject to availability. Please contact Nini C. Paulsen at nini@nme.no for more information.  \nPRICES \nRegular stand package:\nNME members: NOK 22\,500.- per sqm\nNon-members: NOK 23\,950.- per sqm\nPrices include: Footprint area\, walls\, carpet\, spotlights\, table and chairs\, info desk\, access to common lounge area\, free coffee and water during opening hours\, project management and presence from NME staff during the exhibition period. \nSelf-builders (minimum 30 sqm):\nNME members: NOK 8\,950.- per sqm\nNon-members: NOK 9\,950.- per sqm\nPrices include: Footprint area\, access to common lounge area\, free coffee and water during opening hours\, project management and presence from NME staff during the exhibition period. \nMeet and greet stand:\nNME members: NOK 84\,500.-\nNon-members: NOK 99\,500.-\nPrices include: 1.5-2.5 sqm where your company may have 2 delegates\, profiling on one wall\, spotlight\, access to common lounge area\, free coffee and water during opening hours\, project management and presence from NME staff during the exhibition period.
URL:https://www.nme.no/event/seatrade-cruise-global/
LOCATION:Miami Beach Convetion Center\, 1901 Convention Ctr Dr\, Miami Beach\, FL\, 33139\, United States
ATTACH;FMTTYPE=image/png:https://www.nme.no/wp-content/uploads/2023/07/1631215945620-1-1.png
END:VEVENT
END:VCALENDAR