BEGIN:VCALENDAR
VERSION:2.0
PRODID:-//Norwegian Maritime Exporters - ECPv6.15.20//NONSGML v1.0//EN
CALSCALE:GREGORIAN
METHOD:PUBLISH
X-ORIGINAL-URL:https://www.nme.no
X-WR-CALDESC:Events for Norwegian Maritime Exporters
REFRESH-INTERVAL;VALUE=DURATION:PT1H
X-Robots-Tag:noindex
X-PUBLISHED-TTL:PT1H
BEGIN:VTIMEZONE
TZID:Europe/Oslo
BEGIN:DAYLIGHT
TZOFFSETFROM:+0100
TZOFFSETTO:+0200
TZNAME:CEST
DTSTART:20240331T010000
END:DAYLIGHT
BEGIN:STANDARD
TZOFFSETFROM:+0200
TZOFFSETTO:+0100
TZNAME:CET
DTSTART:20241027T010000
END:STANDARD
BEGIN:DAYLIGHT
TZOFFSETFROM:+0100
TZOFFSETTO:+0200
TZNAME:CEST
DTSTART:20250330T010000
END:DAYLIGHT
BEGIN:STANDARD
TZOFFSETFROM:+0200
TZOFFSETTO:+0100
TZNAME:CET
DTSTART:20251026T010000
END:STANDARD
BEGIN:DAYLIGHT
TZOFFSETFROM:+0100
TZOFFSETTO:+0200
TZNAME:CEST
DTSTART:20260329T010000
END:DAYLIGHT
BEGIN:STANDARD
TZOFFSETFROM:+0200
TZOFFSETTO:+0100
TZNAME:CET
DTSTART:20261025T010000
END:STANDARD
END:VTIMEZONE
BEGIN:VEVENT
DTSTART;VALUE=DATE:20251202
DTEND;VALUE=DATE:20251206
DTSTAMP:20260423T161657
CREATED:20241007T081821Z
LAST-MODIFIED:20250930T093408Z
UID:12908-1764633600-1764979199@www.nme.no
SUMMARY:Marintec China 2025 - Fully booked
DESCRIPTION:After more than 40 years of serving the maritime industry\, Marintec China has become a prominent event on the global maritime map. It serves as a global networking hub\, bringing together professionals and experts from different corners of the maritime world to foster collaboration\, knowledge exchange and business opportunities. \nIn 2023\, the event attracted around 80\,500 professional visitors from 100 countries and featured more than 2\,000 exhibitors from 30 countries. \nThe Team Norway pavilion has an excellent location in Hall N1. The pavilion will be branded under the official Norway-profile highlighting our companies’ connection to each other and to Norway. This strengthens our brands and create synergies. In addition\, we provide room for individual profiling of each company stand to ensure that your company get excellent marketing. \nClick on “Participants” above to see which companies you can meet. \nVisit to Waigaoqiao Shipyard\nIn collaboration with the Norwegian Consulate General\, we are hosting a visit to Waigaoqiao Shipyard in Shanghai on Monday\, 1 December\, the day before the opening of Marintec China. A tanker ordered by Frontline is currently in its final stage before delivery\, scheduled for the end of December\, and we have requested permission to board the vessel. \nThe shipyard is located about 30 minutes’ drive from the Kerry Hotel in the Pudong district of Shanghai. A bus will take us from the hotel in the morning\, and back in the afternoon. We will have lunch before returning to the hotel. \nAll Norwegian companies are welcome to join the visit. To register or to receive more information please contact Bjørg Ekornrud at bjorg@nme.no. There will be a participation fee to cover the cost of transportation and lunch. Due to a limitation in how many visitors the yard can allow\, this will be on a first come – first served basis.
URL:https://www.nme.no/event/marintec-china-2025/
ATTACH;FMTTYPE=image/jpeg:https://www.nme.no/wp-content/uploads/2024/10/marintec_jpg_300dpi-e1763559899864.jpg
END:VEVENT
BEGIN:VEVENT
DTSTART;VALUE=DATE:20251203
DTEND;VALUE=DATE:20251206
DTSTAMP:20260423T161657
CREATED:20250120T140051Z
LAST-MODIFIED:20251124T134026Z
UID:13068-1764720000-1764979199@www.nme.no
SUMMARY:Workboat Show 2025
DESCRIPTION:WorkBoat Show is a trade only conference and expo for commercial vessel owners\, operators and the vendors and suppliers that serve them. The exhibition has been connecting qualified buyers with leading suppliers for more than 70 years. WorkBoat delivers high quality information to all segments of the marine industry in North America. Amon the visitors you find fleet owners\, independent vessel owners\, boat builders and engineers. \nHear what your customers need in real time\, make genuine connections\, showcase your latest products and services\, and get meaningful feedback from purchasers and end users alike. \nWorkBoat Show is continuing to grow\, bringing to gether more exhibitors and visitors each year. \nThe Team Norway Pavilion is located at booth 1709. \nThe pavilion will leave room for both traditional booths and Meet and Greet booths. The pavilion will be branded under the official Norway-profile\, with room for individual profiling of each stand. \nPrices:\nRegular stand package: \nNME members: NOK 17\,950 per sqm \nNon-members: NOK 19\,750 per sqm \nPrices include:\nFootprint area\, stand walls including print of graphics\, carpet\, spotlights\, one double socket\, table\, chairs and info desk. Access to common lounge area\, free coffee\, tea and water available in the lounge during opening hours. Project management and presence from NME staff during the exhibition period \nMeet & Greet stand package: \nNME members: NOK 70\,950 per stand \nNon-members: NOK 79\,250 per stand \nPrices include:\nFootprint area of 1-2 sqm where your company may have two delegates. Profiling on one wall and divider panels. Access to common lounge area\, free coffee\, tea and water available in the lounge during opening hours. Project management and presence from NME staff during the exhibition period. \n 
URL:https://www.nme.no/event/workboat-show-2025/
ATTACH;FMTTYPE=image/png:https://www.nme.no/wp-content/uploads/2022/03/international-workboat-show-vector-logo-e1763560073490.png
END:VEVENT
END:VCALENDAR