BEGIN:VCALENDAR
VERSION:2.0
PRODID:-//Norwegian Maritime Exporters - ECPv6.15.20//NONSGML v1.0//EN
CALSCALE:GREGORIAN
METHOD:PUBLISH
X-WR-CALNAME:Norwegian Maritime Exporters
X-ORIGINAL-URL:https://www.nme.no
X-WR-CALDESC:Events for Norwegian Maritime Exporters
REFRESH-INTERVAL;VALUE=DURATION:PT1H
X-Robots-Tag:noindex
X-PUBLISHED-TTL:PT1H
BEGIN:VTIMEZONE
TZID:Europe/Oslo
BEGIN:DAYLIGHT
TZOFFSETFROM:+0100
TZOFFSETTO:+0200
TZNAME:CEST
DTSTART:20240331T010000
END:DAYLIGHT
BEGIN:STANDARD
TZOFFSETFROM:+0200
TZOFFSETTO:+0100
TZNAME:CET
DTSTART:20241027T010000
END:STANDARD
BEGIN:DAYLIGHT
TZOFFSETFROM:+0100
TZOFFSETTO:+0200
TZNAME:CEST
DTSTART:20250330T010000
END:DAYLIGHT
BEGIN:STANDARD
TZOFFSETFROM:+0200
TZOFFSETTO:+0100
TZNAME:CET
DTSTART:20251026T010000
END:STANDARD
BEGIN:DAYLIGHT
TZOFFSETFROM:+0100
TZOFFSETTO:+0200
TZNAME:CEST
DTSTART:20260329T010000
END:DAYLIGHT
BEGIN:STANDARD
TZOFFSETFROM:+0200
TZOFFSETTO:+0100
TZNAME:CET
DTSTART:20261025T010000
END:STANDARD
END:VTIMEZONE
BEGIN:VEVENT
DTSTART;VALUE=DATE:20250325
DTEND;VALUE=DATE:20250328
DTSTAMP:20260424T170656
CREATED:20240807T132353Z
LAST-MODIFIED:20250227T131315Z
UID:12787-1742860800-1743119999@www.nme.no
SUMMARY:Sea Asia 2025 - Fully booked
DESCRIPTION:Sea Asia is the leading maritime forum in Southeast Asia and has been hosted in Singapore for 20 years. Next year the fair will be arranged during the Singapore Maritime Week to give a better outcome for the industry by congregating the global industry within the same week. \nAfter a record setting 2023 edition\, the 2025 event is poised to sell out and attract an even larger audience of 20\,000 participants from 90+ countries alongside 10 national pavilions and 500+ exhibitors. \nTeam Norway will also this time cooperate with the Danish pavilion and have a common lounge area serving lunch to our exhibitors every day. In addition\, Innovation Norway’s Singapore office will provide operational assistance with the pavilion. \nPRICES \nRegular stand package:\nNME members: NOK 10\,950.- per sqm\nNon-members: NOK 12\,450.- per sqm\nPrices include: Footprint area\, walls including print of profiling\, carpet\, spotlights\, table\, chairs and info desk. Access to common lounge area. Free coffee\, tea and water during opening hours. Possibility to pre-book Bento lunch boxes for your stand personnel which will be invoiced after the fair is over. Project management and presence from NME staff during the exhibition period. \nMeet & Greet stand:\nNME members: NOK 38\,350.-\nNon-members: NOK 43\,550.-\nPrices include: Footprint area of 1.5 square meters where your company may have up to two delegates. One back wall including print of profiling. Access to common lounge area. Free coffee\, tea and water during opening hours. Possibility to pre-book Bento lunch boxes for your stand personnel which will be invoiced after the fair is over. Project management and presence from NME staff during the exhibition period. \nInvitation \nRegistration
URL:https://www.nme.no/event/sea-asia-2025/
ATTACH;FMTTYPE=image/jpeg:https://www.nme.no/wp-content/uploads/2021/05/6757-sea-asia-2019-logo-scaled.jpg
END:VEVENT
END:VCALENDAR