BEGIN:VCALENDAR
VERSION:2.0
PRODID:-//Norwegian Maritime Exporters - ECPv6.15.20//NONSGML v1.0//EN
CALSCALE:GREGORIAN
METHOD:PUBLISH
X-WR-CALNAME:Norwegian Maritime Exporters
X-ORIGINAL-URL:https://www.nme.no
X-WR-CALDESC:Events for Norwegian Maritime Exporters
REFRESH-INTERVAL;VALUE=DURATION:PT1H
X-Robots-Tag:noindex
X-PUBLISHED-TTL:PT1H
BEGIN:VTIMEZONE
TZID:Europe/Oslo
BEGIN:DAYLIGHT
TZOFFSETFROM:+0100
TZOFFSETTO:+0200
TZNAME:CEST
DTSTART:20230326T010000
END:DAYLIGHT
BEGIN:STANDARD
TZOFFSETFROM:+0200
TZOFFSETTO:+0100
TZNAME:CET
DTSTART:20231029T010000
END:STANDARD
BEGIN:DAYLIGHT
TZOFFSETFROM:+0100
TZOFFSETTO:+0200
TZNAME:CEST
DTSTART:20240331T010000
END:DAYLIGHT
BEGIN:STANDARD
TZOFFSETFROM:+0200
TZOFFSETTO:+0100
TZNAME:CET
DTSTART:20241027T010000
END:STANDARD
BEGIN:DAYLIGHT
TZOFFSETFROM:+0100
TZOFFSETTO:+0200
TZNAME:CEST
DTSTART:20250330T010000
END:DAYLIGHT
BEGIN:STANDARD
TZOFFSETFROM:+0200
TZOFFSETTO:+0100
TZNAME:CET
DTSTART:20251026T010000
END:STANDARD
END:VTIMEZONE
BEGIN:VEVENT
DTSTART;VALUE=DATE:20241112
DTEND;VALUE=DATE:20241115
DTSTAMP:20260424T170118
CREATED:20231218T132021Z
LAST-MODIFIED:20241107T075958Z
UID:9760-1731369600-1731628799@www.nme.no
SUMMARY:WorkBoat Show 2024
DESCRIPTION:WorkBoat Show is an exclusive\, trade-only conference and expo tailored for commercial vessel owners\, operators\, and the vendors and suppliers that serve them. With a rich history of connecting qualified buyers with leading suppliers for over seven decades\, the exhibition stands as a premier event for the North American marine industry. \nWhy Attend? \n\nInvaluable Insights: WorkBoat delivers high-quality information to all segments of the marine industry.\nDirect Feedback: Hear directly from your customers in real-time\, gather meaningful feedback from purchasers and end users\, and refine your offerings accordingly.\nGenuine Connections: Establish and nurture genuine connections\, showcase your latest products and services\, and network with industry leaders and peers.\n\nVisit Team Norway at Booth 1143 \nThe Team Norway Pavilion\, hosted by Norwegian Maritime Exporters\, will be located at booth 1143. Here\, you can meet representatives from some of Norway’s leading maritime companies: \n\nAir Products\nDIpai\nJason Engineering\nJotron\nMiros\nNorwegian Electric Systems\nSperre Air Power\nUptime International\n\nExplore the innovations and solutions these companies bring to the maritime industry\, and learn how they contribute to advancing sustainable and efficient marine operations.
URL:https://www.nme.no/event/workboat-show-2024/
ATTACH;FMTTYPE=image/png:https://www.nme.no/wp-content/uploads/2022/03/international-workboat-show-vector-logo-e1763560073490.png
END:VEVENT
END:VCALENDAR